BEGIN:VCALENDAR
VERSION:2.0
PRODID:-//hacksw/handcal//NONSGML v1.0//EN
CALSCALE:GREGORIAN
BEGIN:VEVENT
DTSTART:20211017T070000Z
DTEND:20211017T070000Z
UID:e24194
DTSTAMP:20260425T122938Z
LOCATION:
DESCRIPTION:Seminar for PhD thesis defense
SUMMARY:Seminar for PhD thesis defense
END:VEVENT
END:VCALENDAR