BEGIN:VCALENDAR
VERSION:2.0
PRODID:-//hacksw/handcal//NONSGML v1.0//EN
CALSCALE:GREGORIAN
BEGIN:VEVENT
DTSTART:20211019T083000Z
DTEND:20211019T093000Z
UID:e24198
DTSTAMP:20260423T135841Z
LOCATION:
DESCRIPTION:Determinant of microbiome plasticity - lessons from cows and fish
SUMMARY:Determinant of microbiome plasticity - lessons from cows and fish
END:VEVENT
END:VCALENDAR