BEGIN:VCALENDAR
VERSION:2.0
PRODID:-//hacksw/handcal//NONSGML v1.0//EN
CALSCALE:GREGORIAN
BEGIN:VEVENT
DTSTART:20211209T110000Z
DTEND:20211209T120000Z
UID:e24208
DTSTAMP:20260421T102847Z
LOCATION:Max and Lillian Candiotty Building
DESCRIPTION:Antibody-mediated immune responses in ovarian cancer patients 
SUMMARY:Antibody-mediated immune responses in ovarian cancer patients 
END:VEVENT
END:VCALENDAR