BEGIN:VCALENDAR
VERSION:2.0
PRODID:-//hacksw/handcal//NONSGML v1.0//EN
CALSCALE:GREGORIAN
BEGIN:VEVENT
DTSTART:20211026T070000Z
DTEND:20211026T080000Z
UID:e24216
DTSTAMP:20260423T044702Z
LOCATION:Nella and Leon Benoziyo Building for Biological Sciences
DESCRIPTION:Systematic analysis of contact site proteomes reveals novel players in cellular homeostasis Maya Schuldiner\, Weizmann Institute of Science
SUMMARY:Systematic analysis of contact site proteomes reveals novel players in cellular homeostasis Maya Schuldiner\, Weizmann Institute of Science
END:VEVENT
END:VCALENDAR