BEGIN:VCALENDAR
VERSION:2.0
PRODID:-//hacksw/handcal//NONSGML v1.0//EN
CALSCALE:GREGORIAN
BEGIN:VEVENT
DTSTART:20211024T120000Z
DTEND:20211024T120000Z
UID:e24230
DTSTAMP:20260423T135848Z
LOCATION:
DESCRIPTION:Chemical and Biological Physics PhD Seminar
SUMMARY:Chemical and Biological Physics PhD Seminar
END:VEVENT
END:VCALENDAR