BEGIN:VCALENDAR
VERSION:2.0
PRODID:-//hacksw/handcal//NONSGML v1.0//EN
CALSCALE:GREGORIAN
BEGIN:VEVENT
DTSTART:20211018T080000Z
DTEND:20211018T090000Z
UID:e24232
DTSTAMP:20260423T005214Z
LOCATION:
DESCRIPTION:‘WeedOUT – Utilizing the natural reproduction system of weeds to fight-off resistance’
SUMMARY:‘WeedOUT – Utilizing the natural reproduction system of weeds to fight-off resistance’
END:VEVENT
END:VCALENDAR