BEGIN:VCALENDAR
VERSION:2.0
PRODID:-//hacksw/handcal//NONSGML v1.0//EN
CALSCALE:GREGORIAN
BEGIN:VEVENT
DTSTART:20211125T081500Z
DTEND:20211125T093000Z
UID:e24252
DTSTAMP:20260419T185422Z
LOCATION:
DESCRIPTION:Physics Colloquium
SUMMARY:Physics Colloquium
END:VEVENT
END:VCALENDAR