BEGIN:VCALENDAR
VERSION:2.0
PRODID:-//hacksw/handcal//NONSGML v1.0//EN
CALSCALE:GREGORIAN
BEGIN:VEVENT
DTSTART:20220606T080000Z
DTEND:20220606T091500Z
UID:e24270
DTSTAMP:20260419T182113Z
LOCATION:Gerhard M.J. Schmidt Lecture Hall
DESCRIPTION:Synthesis of Molecular Wire Nanorings: Light Harvesting & Charge Delocalization
SUMMARY:Synthesis of Molecular Wire Nanorings: Light Harvesting & Charge Delocalization
END:VEVENT
END:VCALENDAR