BEGIN:VCALENDAR
VERSION:2.0
PRODID:-//hacksw/handcal//NONSGML v1.0//EN
CALSCALE:GREGORIAN
BEGIN:VEVENT
DTSTART:20211114T081500Z
DTEND:20211114T081500Z
UID:e24276
DTSTAMP:20260421T051308Z
LOCATION:Gerhard M.J. Schmidt Lecture Hall
DESCRIPTION:Chemical and Biological Physics Guest Seminar
SUMMARY:Chemical and Biological Physics Guest Seminar
END:VEVENT
END:VCALENDAR