BEGIN:VCALENDAR
VERSION:2.0
PRODID:-//hacksw/handcal//NONSGML v1.0//EN
CALSCALE:GREGORIAN
BEGIN:VEVENT
DTSTART:20211118T091500Z
DTEND:20211118T103000Z
UID:e24280
DTSTAMP:20260420T152724Z
LOCATION:
DESCRIPTION:Vision and AI
SUMMARY:Vision and AI
END:VEVENT
END:VCALENDAR