BEGIN:VCALENDAR
VERSION:2.0
PRODID:-//hacksw/handcal//NONSGML v1.0//EN
CALSCALE:GREGORIAN
BEGIN:VEVENT
DTSTART:20211130T070000Z
DTEND:20211130T073000Z
UID:e24306
DTSTAMP:20260420T194328Z
LOCATION:Nella and Leon Benoziyo Building for Biological Sciences
DESCRIPTION:The epigenetic landscape of cancer-associated fibroblasts
SUMMARY:The epigenetic landscape of cancer-associated fibroblasts
END:VEVENT
END:VCALENDAR