BEGIN:VCALENDAR
VERSION:2.0
PRODID:-//hacksw/handcal//NONSGML v1.0//EN
CALSCALE:GREGORIAN
BEGIN:VEVENT
DTSTART:20220125T070000Z
DTEND:20220125T073000Z
UID:e24314
DTSTAMP:20260419T231726Z
LOCATION:
DESCRIPTION:How malleable is GFP’s “active  site”?
SUMMARY:How malleable is GFP’s “active  site”?
END:VEVENT
END:VCALENDAR