BEGIN:VCALENDAR
VERSION:2.0
PRODID:-//hacksw/handcal//NONSGML v1.0//EN
CALSCALE:GREGORIAN
BEGIN:VEVENT
DTSTART:20220329T070000Z
DTEND:20220329T080000Z
UID:e24320
DTSTAMP:20260420T062948Z
LOCATION:Nella and Leon Benoziyo Building for Biological Sciences
DESCRIPTION:Microbial and Antimicrobial Amyloids in the Fight Against Infections
SUMMARY:Microbial and Antimicrobial Amyloids in the Fight Against Infections
END:VEVENT
END:VCALENDAR