BEGIN:VCALENDAR
VERSION:2.0
PRODID:-//hacksw/handcal//NONSGML v1.0//EN
CALSCALE:GREGORIAN
BEGIN:VEVENT
DTSTART:20211116T073000Z
DTEND:20211116T080000Z
UID:e24328
DTSTAMP:20260421T051346Z
LOCATION:Nella and Leon Benoziyo Building for Biological Sciences
DESCRIPTION:Eleven residues determine the acyl chain specificity of ceramide synthases
SUMMARY:Eleven residues determine the acyl chain specificity of ceramide synthases
END:VEVENT
END:VCALENDAR