BEGIN:VCALENDAR
VERSION:2.0
PRODID:-//hacksw/handcal//NONSGML v1.0//EN
CALSCALE:GREGORIAN
BEGIN:VEVENT
DTSTART:20211111T060000Z
DTEND:20211111T070000Z
UID:e24332
DTSTAMP:20260420T230156Z
LOCATION:
DESCRIPTION:Informatics in biology: single cell multiomics\, applied artificial intelligence and CRISPR design
SUMMARY:Informatics in biology: single cell multiomics\, applied artificial intelligence and CRISPR design
END:VEVENT
END:VCALENDAR