BEGIN:VCALENDAR
VERSION:2.0
PRODID:-//hacksw/handcal//NONSGML v1.0//EN
CALSCALE:GREGORIAN
BEGIN:VEVENT
DTSTART:20211114T080000Z
DTEND:20211114T080000Z
UID:e24354
DTSTAMP:20260421T235404Z
LOCATION:
DESCRIPTION:A Simple Model For Interpreting Temperature Variability And Its Higher-Order Changes
SUMMARY:A Simple Model For Interpreting Temperature Variability And Its Higher-Order Changes
END:VEVENT
END:VCALENDAR