BEGIN:VCALENDAR
VERSION:2.0
PRODID:-//hacksw/handcal//NONSGML v1.0//EN
CALSCALE:GREGORIAN
BEGIN:VEVENT
DTSTART:20211124T100000Z
DTEND:20211124T110000Z
UID:e24378
DTSTAMP:20260419T231707Z
LOCATION:
DESCRIPTION:Algebraic Geometry and Representation Theory Seminar
SUMMARY:Algebraic Geometry and Representation Theory Seminar
END:VEVENT
END:VCALENDAR