BEGIN:VCALENDAR
VERSION:2.0
PRODID:-//hacksw/handcal//NONSGML v1.0//EN
CALSCALE:GREGORIAN
BEGIN:VEVENT
DTSTART:20211118T110000Z
DTEND:20211118T120000Z
UID:e24382
DTSTAMP:20260419T185621Z
LOCATION:Gerhard M.J. Schmidt Lecture Hall
DESCRIPTION:Brain borders at the central stage of neuroimmunology
SUMMARY:Brain borders at the central stage of neuroimmunology
END:VEVENT
END:VCALENDAR