BEGIN:VCALENDAR
VERSION:2.0
PRODID:-//hacksw/handcal//NONSGML v1.0//EN
CALSCALE:GREGORIAN
BEGIN:VEVENT
DTSTART:20211116T101500Z
DTEND:20211116T111500Z
UID:e24384
DTSTAMP:20260420T230209Z
LOCATION:Edna and K.B. Weissman Building of Physical Sciences
DESCRIPTION:AMOS Seminar
SUMMARY:AMOS Seminar
END:VEVENT
END:VCALENDAR