BEGIN:VCALENDAR
VERSION:2.0
PRODID:-//hacksw/handcal//NONSGML v1.0//EN
CALSCALE:GREGORIAN
BEGIN:VEVENT
DTSTART:20211116T083000Z
DTEND:20211116T093000Z
UID:e24386
DTSTAMP:20260420T153405Z
LOCATION:Nella and Leon Benoziyo Building for Biological Sciences
DESCRIPTION:Systematic Discovery and Characterization of Microbial Toxins
SUMMARY:Systematic Discovery and Characterization of Microbial Toxins
END:VEVENT
END:VCALENDAR