BEGIN:VCALENDAR
VERSION:2.0
PRODID:-//hacksw/handcal//NONSGML v1.0//EN
CALSCALE:GREGORIAN
BEGIN:VEVENT
DTSTART:20211130T110000Z
DTEND:20211130T120000Z
UID:e24400
DTSTAMP:20260420T194159Z
LOCATION:Gerhard M.J. Schmidt Lecture Hall
DESCRIPTION:Folding and Quality Control of Membrane Proteins 
SUMMARY:Folding and Quality Control of Membrane Proteins 
END:VEVENT
END:VCALENDAR