BEGIN:VCALENDAR
VERSION:2.0
PRODID:-//hacksw/handcal//NONSGML v1.0//EN
CALSCALE:GREGORIAN
BEGIN:VEVENT
DTSTART:20220120T110000Z
DTEND:20220120T110000Z
UID:e24406
DTSTAMP:20260420T045936Z
LOCATION:
DESCRIPTION:BOOSTING CAR T CELL EFFICACY BY MODULATION OF THE MICROENVIRONMENT IN BRAIN TUMORS
SUMMARY:BOOSTING CAR T CELL EFFICACY BY MODULATION OF THE MICROENVIRONMENT IN BRAIN TUMORS
END:VEVENT
END:VCALENDAR