BEGIN:VCALENDAR
VERSION:2.0
PRODID:-//hacksw/handcal//NONSGML v1.0//EN
CALSCALE:GREGORIAN
BEGIN:VEVENT
DTSTART:20211124T080000Z
DTEND:20211124T080000Z
UID:e24424
DTSTAMP:20260419T185608Z
LOCATION:
DESCRIPTION:Special Guest seminar
SUMMARY:Special Guest seminar
END:VEVENT
END:VCALENDAR