BEGIN:VCALENDAR
VERSION:2.0
PRODID:-//hacksw/handcal//NONSGML v1.0//EN
CALSCALE:GREGORIAN
BEGIN:VEVENT
DTSTART:20211123T083000Z
DTEND:20211123T093000Z
UID:e24430
DTSTAMP:20260419T185433Z
LOCATION:
DESCRIPTION:Biogeochemical consequences of host-virus interactions in marine diatoms
SUMMARY:Biogeochemical consequences of host-virus interactions in marine diatoms
END:VEVENT
END:VCALENDAR