BEGIN:VCALENDAR
VERSION:2.0
PRODID:-//hacksw/handcal//NONSGML v1.0//EN
CALSCALE:GREGORIAN
BEGIN:VEVENT
DTSTART:20220120T081500Z
DTEND:20220120T093000Z
UID:e24436
DTSTAMP:20260419T185448Z
LOCATION:
DESCRIPTION:Physics Virtual Colloquium
SUMMARY:Physics Virtual Colloquium
END:VEVENT
END:VCALENDAR