BEGIN:VCALENDAR
VERSION:2.0
PRODID:-//hacksw/handcal//NONSGML v1.0//EN
CALSCALE:GREGORIAN
BEGIN:VEVENT
DTSTART:20211128T100000Z
DTEND:20211128T110000Z
UID:e24448
DTSTAMP:20260419T185606Z
LOCATION:Arthur and Rochelle Belfer Building for Biomedical Research
DESCRIPTION:Molecular Genetics departmental seminar
SUMMARY:Molecular Genetics departmental seminar
END:VEVENT
END:VCALENDAR