BEGIN:VCALENDAR
VERSION:2.0
PRODID:-//hacksw/handcal//NONSGML v1.0//EN
CALSCALE:GREGORIAN
BEGIN:VEVENT
DTSTART:20211206T080000Z
DTEND:20211206T091500Z
UID:e24456
DTSTAMP:20260420T194140Z
LOCATION:
DESCRIPTION:Protein as amorphous evolving matter
SUMMARY:Protein as amorphous evolving matter
END:VEVENT
END:VCALENDAR