BEGIN:VCALENDAR
VERSION:2.0
PRODID:-//hacksw/handcal//NONSGML v1.0//EN
CALSCALE:GREGORIAN
BEGIN:VEVENT
DTSTART:20211209T060000Z
DTEND:20211209T070000Z
UID:e24466
DTSTAMP:20260420T085631Z
LOCATION:
DESCRIPTION:Zoom seminar: “Decoherence of electron spins”
SUMMARY:Zoom seminar: “Decoherence of electron spins”
END:VEVENT
END:VCALENDAR