BEGIN:VCALENDAR
VERSION:2.0
PRODID:-//hacksw/handcal//NONSGML v1.0//EN
CALSCALE:GREGORIAN
BEGIN:VEVENT
DTSTART:20220110T070000Z
DTEND:20220110T083000Z
UID:e24478
DTSTAMP:20260420T065122Z
LOCATION:
DESCRIPTION:A Hair-Raising Tale: Nerve – Stem Cell Interactions
SUMMARY:A Hair-Raising Tale: Nerve – Stem Cell Interactions
END:VEVENT
END:VCALENDAR