BEGIN:VCALENDAR
VERSION:2.0
PRODID:-//hacksw/handcal//NONSGML v1.0//EN
CALSCALE:GREGORIAN
BEGIN:VEVENT
DTSTART:20220217T110000Z
DTEND:20220217T120000Z
UID:e24492
DTSTAMP:20260420T065122Z
LOCATION:
DESCRIPTION:Intravital microscopy of the protection mechanisms that clear mutations in intestinal and breast tissues
SUMMARY:Intravital microscopy of the protection mechanisms that clear mutations in intestinal and breast tissues
END:VEVENT
END:VCALENDAR