BEGIN:VCALENDAR
VERSION:2.0
PRODID:-//hacksw/handcal//NONSGML v1.0//EN
CALSCALE:GREGORIAN
BEGIN:VEVENT
DTSTART:20211226T110000Z
DTEND:20211226T120000Z
UID:e24534
DTSTAMP:20260420T195132Z
LOCATION:Arthur and Rochelle Belfer Building for Biomedical Research
DESCRIPTION:Guest seminar with Vered Shacham-Silverberg
SUMMARY:Guest seminar with Vered Shacham-Silverberg
END:VEVENT
END:VCALENDAR