BEGIN:VCALENDAR
VERSION:2.0
PRODID:-//hacksw/handcal//NONSGML v1.0//EN
CALSCALE:GREGORIAN
BEGIN:VEVENT
DTSTART:20211221T083000Z
DTEND:20211221T093000Z
UID:e24536
DTSTAMP:20260423T183824Z
LOCATION:
DESCRIPTION:Special Guest Seminar
SUMMARY:Special Guest Seminar
END:VEVENT
END:VCALENDAR