BEGIN:VCALENDAR
VERSION:2.0
PRODID:-//hacksw/handcal//NONSGML v1.0//EN
CALSCALE:GREGORIAN
BEGIN:VEVENT
DTSTART:20220111T080000Z
DTEND:20220111T090000Z
UID:e24554
DTSTAMP:20260419T185619Z
LOCATION:Gerhard M.J. Schmidt Lecture Hall
DESCRIPTION:"Experimental Data-driven Paradigms for Unfolding Complexity in Chemical Systems"
SUMMARY:"Experimental Data-driven Paradigms for Unfolding Complexity in Chemical Systems"
END:VEVENT
END:VCALENDAR