BEGIN:VCALENDAR
VERSION:2.0
PRODID:-//hacksw/handcal//NONSGML v1.0//EN
CALSCALE:GREGORIAN
BEGIN:VEVENT
DTSTART:20230226T050000Z
DTEND:20230228T050000Z
UID:e24560
DTSTAMP:20260420T183851Z
LOCATION:The David Lopatie Conference Centre
DESCRIPTION:TBA
SUMMARY:TBA
END:VEVENT
END:VCALENDAR