BEGIN:VCALENDAR
VERSION:2.0
PRODID:-//hacksw/handcal//NONSGML v1.0//EN
CALSCALE:GREGORIAN
BEGIN:VEVENT
DTSTART:20220206T100000Z
DTEND:20220206T110000Z
UID:e24608
DTSTAMP:20260419T100426Z
LOCATION:
DESCRIPTION:Environmental challenges and opportunities in the Red Sea - the last coral reef standing?
SUMMARY:Environmental challenges and opportunities in the Red Sea - the last coral reef standing?
END:VEVENT
END:VCALENDAR