BEGIN:VCALENDAR
VERSION:2.0
PRODID:-//hacksw/handcal//NONSGML v1.0//EN
CALSCALE:GREGORIAN
BEGIN:VEVENT
DTSTART:20220111T110000Z
DTEND:20220111T120000Z
UID:e24638
DTSTAMP:20260419T185449Z
LOCATION:
DESCRIPTION:Matchmaking Taste Receptors and Their Ligands
SUMMARY:Matchmaking Taste Receptors and Their Ligands
END:VEVENT
END:VCALENDAR