BEGIN:VCALENDAR
VERSION:2.0
PRODID:-//hacksw/handcal//NONSGML v1.0//EN
CALSCALE:GREGORIAN
BEGIN:VEVENT
DTSTART:20220125T073000Z
DTEND:20220125T080000Z
UID:e24668
DTSTAMP:20260419T185622Z
LOCATION:Nella and Leon Benoziyo Building for Biological Sciences
DESCRIPTION:Expanding the functional diversity of recalcitrant enzymes for environmental applications 
SUMMARY:Expanding the functional diversity of recalcitrant enzymes for environmental applications 
END:VEVENT
END:VCALENDAR