BEGIN:VCALENDAR
VERSION:2.0
PRODID:-//hacksw/handcal//NONSGML v1.0//EN
CALSCALE:GREGORIAN
BEGIN:VEVENT
DTSTART:20220126T083000Z
DTEND:20220126T093000Z
UID:e24678
DTSTAMP:20260419T185427Z
LOCATION:
DESCRIPTION:M.Sc thesis defense: Characterization of anisotropic strain in anelstic materials by Raman spectroscopy
SUMMARY:M.Sc thesis defense: Characterization of anisotropic strain in anelstic materials by Raman spectroscopy
END:VEVENT
END:VCALENDAR