BEGIN:VCALENDAR
VERSION:2.0
PRODID:-//hacksw/handcal//NONSGML v1.0//EN
CALSCALE:GREGORIAN
BEGIN:VEVENT
DTSTART:20220125T103000Z
DTEND:20220125T113000Z
UID:e24680
DTSTAMP:20260421T051227Z
LOCATION:
DESCRIPTION:M.Sc thesis defense: "Examination of Interfacial Lithium Ion Transport through Computational and Experimental Techniques"
SUMMARY:M.Sc thesis defense: "Examination of Interfacial Lithium Ion Transport through Computational and Experimental Techniques"
END:VEVENT
END:VCALENDAR