BEGIN:VCALENDAR
VERSION:2.0
PRODID:-//hacksw/handcal//NONSGML v1.0//EN
CALSCALE:GREGORIAN
BEGIN:VEVENT
DTSTART:20220130T100000Z
DTEND:20220130T110000Z
UID:e24686
DTSTAMP:20260419T185632Z
LOCATION:
DESCRIPTION:Zoom: M.Sc thesis defense: "Investigation of the ceramic – polymer interface in composite solid electrolyte by Nuclear Magnetic Resonance Spectroscopy"
SUMMARY:Zoom: M.Sc thesis defense: "Investigation of the ceramic – polymer interface in composite solid electrolyte by Nuclear Magnetic Resonance Spectroscopy"
END:VEVENT
END:VCALENDAR