BEGIN:VCALENDAR
VERSION:2.0
PRODID:-//hacksw/handcal//NONSGML v1.0//EN
CALSCALE:GREGORIAN
BEGIN:VEVENT
DTSTART:20220201T083000Z
DTEND:20220201T093000Z
UID:e24692
DTSTAMP:20260419T231716Z
LOCATION:
DESCRIPTION:New metabolic functions can rapidly evolve in microbes by multiple convergent mechanisms
SUMMARY:New metabolic functions can rapidly evolve in microbes by multiple convergent mechanisms
END:VEVENT
END:VCALENDAR