BEGIN:VCALENDAR
VERSION:2.0
PRODID:-//hacksw/handcal//NONSGML v1.0//EN
CALSCALE:GREGORIAN
BEGIN:VEVENT
DTSTART:20220210T060000Z
DTEND:20220210T070000Z
UID:e24710
DTSTAMP:20260420T005433Z
LOCATION:
DESCRIPTION:Effects of physical exercise and adult neurogenesis on hippocampal neural codes
SUMMARY:Effects of physical exercise and adult neurogenesis on hippocampal neural codes
END:VEVENT
END:VCALENDAR