BEGIN:VCALENDAR
VERSION:2.0
PRODID:-//hacksw/handcal//NONSGML v1.0//EN
CALSCALE:GREGORIAN
BEGIN:VEVENT
DTSTART:20220220T080000Z
DTEND:20220220T090000Z
UID:e24712
DTSTAMP:20260420T005426Z
LOCATION:
DESCRIPTION:Reduced Rainfall in Future Heavy Precipitation Events Related to Contracted Rain Area Despite Increased Rain Rate
SUMMARY:Reduced Rainfall in Future Heavy Precipitation Events Related to Contracted Rain Area Despite Increased Rain Rate
END:VEVENT
END:VCALENDAR