BEGIN:VCALENDAR
VERSION:2.0
PRODID:-//hacksw/handcal//NONSGML v1.0//EN
CALSCALE:GREGORIAN
BEGIN:VEVENT
DTSTART:20220215T110000Z
DTEND:20220215T120000Z
UID:e24720
DTSTAMP:20260420T122253Z
LOCATION:
DESCRIPTION:Visualizing supercoiled DNA structure and interactions with base-pair resolution
SUMMARY:Visualizing supercoiled DNA structure and interactions with base-pair resolution
END:VEVENT
END:VCALENDAR