BEGIN:VCALENDAR
VERSION:2.0
PRODID:-//hacksw/handcal//NONSGML v1.0//EN
CALSCALE:GREGORIAN
BEGIN:VEVENT
DTSTART:20220221T080000Z
DTEND:20220221T090000Z
UID:e24726
DTSTAMP:20260420T005425Z
LOCATION:Gerhard M.J. Schmidt Lecture Hall
DESCRIPTION:Magnetic-optical coupling in 2D semiconductors
SUMMARY:Magnetic-optical coupling in 2D semiconductors
END:VEVENT
END:VCALENDAR