BEGIN:VCALENDAR
VERSION:2.0
PRODID:-//hacksw/handcal//NONSGML v1.0//EN
CALSCALE:GREGORIAN
BEGIN:VEVENT
DTSTART:20220210T083000Z
DTEND:20220210T093000Z
UID:e24738
DTSTAMP:20260420T005440Z
LOCATION:
DESCRIPTION:Agricultural strategies\, subsistence and climate of Indus and subsequent cultures (~2900 BCE-1800 CE) from north-western India
SUMMARY:Agricultural strategies\, subsistence and climate of Indus and subsequent cultures (~2900 BCE-1800 CE) from north-western India
END:VEVENT
END:VCALENDAR