BEGIN:VCALENDAR
VERSION:2.0
PRODID:-//hacksw/handcal//NONSGML v1.0//EN
CALSCALE:GREGORIAN
BEGIN:VEVENT
DTSTART:20220222T110000Z
DTEND:20220222T120000Z
UID:e24746
DTSTAMP:20260421T213512Z
LOCATION:
DESCRIPTION:Bringing Nucleic Acid Structures to Life through Structural Dynamics
SUMMARY:Bringing Nucleic Acid Structures to Life through Structural Dynamics
END:VEVENT
END:VCALENDAR