BEGIN:VCALENDAR
VERSION:2.0
PRODID:-//hacksw/handcal//NONSGML v1.0//EN
CALSCALE:GREGORIAN
BEGIN:VEVENT
DTSTART:20220310T110000Z
DTEND:20220310T120000Z
UID:e24748
DTSTAMP:20260419T134332Z
LOCATION:Max and Lillian Candiotty Building
DESCRIPTION:Canceled ! - The microbiome as part of the tumor ecosystem
SUMMARY:Canceled ! - The microbiome as part of the tumor ecosystem
END:VEVENT
END:VCALENDAR