BEGIN:VCALENDAR
VERSION:2.0
PRODID:-//hacksw/handcal//NONSGML v1.0//EN
CALSCALE:GREGORIAN
BEGIN:VEVENT
DTSTART:20220320T080000Z
DTEND:20220320T080000Z
UID:e24752
DTSTAMP:20260420T155046Z
LOCATION:
DESCRIPTION:Four disruptive technologies that are revolutionizing sensing of the oceans
SUMMARY:Four disruptive technologies that are revolutionizing sensing of the oceans
END:VEVENT
END:VCALENDAR