BEGIN:VCALENDAR
VERSION:2.0
PRODID:-//hacksw/handcal//NONSGML v1.0//EN
CALSCALE:GREGORIAN
BEGIN:VEVENT
DTSTART:20220226T080000Z
DTEND:20220226T091500Z
UID:e24754
DTSTAMP:20260419T185620Z
LOCATION:Michael Sela Auditorium
DESCRIPTION:Classical - Sound and Thought | Zvi Plesser
SUMMARY:Classical - Sound and Thought | Zvi Plesser
END:VEVENT
END:VCALENDAR